BEGIN:VCALENDAR
VERSION:2.0
PRODID:-//eventon.com NONSGML v1.0//EN
BEGIN:VEVENT
UID:69eca6c2b92bc
DTSTAMP:20260425T133426
DTSTART:20260414
DTEND:20260416
TZID:Pacific/Midway
LOCATION:
SUMMARY:SETT-dagarna 2026
DESCRIPTION: Mediekompass ställer ut på SETT-dagarna den 14-15 april på Kistamässan. Läs mer om SETT här.\nhttps://mediekompass.se/events/sett-dagarna/
URL:https://mediekompass.se/events/sett-dagarna/
END:VEVENT
END:VCALENDAR