BEGIN:VCALENDAR
VERSION:2.0
PRODID:-//eventon.com NONSGML v1.0//EN
BEGIN:VEVENT
UID:69e6289152871
DTSTAMP:20260420T152225
DTSTART:20220907
DTEND:20220908
TZID:Pacific/Midway
LOCATION:
SUMMARY:Mediekompass besöker Hemmestaskolan
DESCRIPTION: Mediekompass besöker Hemmestaskolan på Värmdö. Boka vår mediepedagog Pontus Ström till din skola här.\nhttps://mediekompass.se/events/mediekompass-besoker-hemmestaskolan/
URL:https://mediekompass.se/events/mediekompass-besoker-hemmestaskolan/
END:VEVENT
END:VCALENDAR