BEGIN:VCALENDAR
VERSION:2.0
PRODID:-//eventon.com NONSGML v1.0//EN
BEGIN:VEVENT
UID:69e74cee3174c
DTSTAMP:20260421T120950
DTSTART:20250925T190000Z
DTEND:20250929T050000Z
TZID:Pacific/Midway
LOCATION:
SUMMARY:Bokmässan i Göteborg
DESCRIPTION: Bokmässan i Göteborg är Nordens största kulturevenemang och en av de största bokmässorna i Europa med 800 utställare och 300 seminarier. I år utförs den 41:e bokmässan och det är två teman: Kärlek och lust. Vill du se seminarier från tidigare år? Gå in på Bokmässan play.\nhttps://mediekompass.se/events/bokmassan-i-goteborg/
URL:https://mediekompass.se/events/bokmassan-i-goteborg/
END:VEVENT
END:VCALENDAR